BEGIN:VCALENDAR
VERSION:2.0
PRODID:-//Pennsylvania Association for Gifted Education (PAGE) - ECPv4.9.10//NONSGML v1.0//EN
CALSCALE:GREGORIAN
METHOD:PUBLISH
X-WR-CALNAME:Pennsylvania Association for Gifted Education (PAGE)
X-ORIGINAL-URL:https://www.giftedpage.org
X-WR-CALDESC:Events for Pennsylvania Association for Gifted Education (PAGE)
BEGIN:VTIMEZONE
TZID:America/New_York
BEGIN:DAYLIGHT
TZOFFSETFROM:-0500
TZOFFSETTO:-0400
TZNAME:EDT
DTSTART:20250309T070000
END:DAYLIGHT
BEGIN:STANDARD
TZOFFSETFROM:-0400
TZOFFSETTO:-0500
TZNAME:EST
DTSTART:20251102T060000
END:STANDARD
END:VTIMEZONE
BEGIN:VEVENT
DTSTART;TZID=America/New_York:20250311T190000
DTEND;TZID=America/New_York:20250311T203000
DTSTAMP:20260419T120804
CREATED:20250228T161228Z
LAST-MODIFIED:20250228T161228Z
UID:9141-1741719600-1741725000@www.giftedpage.org
SUMMARY:Acceleration with the Experts
DESCRIPTION:\n\nPAGE is excited to welcome Dr. Ann Lupkowski-Shoplik. \nAcceleration is the best-researched option for academically talented students\, yet educators and families may be hesitant to use it. Forms of acceleration include grade-skipping\, subject acceleration\, AP courses\, honors courses\, dual enrollment\, and early entrance to college. Research indicates that accelerated students perform well academically in the short- and long-term; additionally\, they do well socially. Tools are available to help inform decisions about acceleration\, including the Iowa Acceleration Scale\, Integrated Acceleration System\, and above-level testing. Some states and school districts have well-developed acceleration policies that guide decision-making. Learn about the many resources available to support families seeking additional challenges for their students. \nAnn Lupkowski-Shoplik\, Ph.D. is Administrator\, Acceleration Institute and Research at the University of Iowa Belin-Blank Center. Previously\, she founded and directed the Carnegie Mellon Institute for Talented Elementary Students (C-MITES) at Carnegie Mellon University. She co-authored Developing Math Talent (2nd ed.)\, Developing Academic Acceleration Policies\, and the Iowa Acceleration Scale\, and co-edited A Nation Empowered: Evidence Trumps the Excuses Holding Back America’s Brightest Students. She is also a co-developer of the online Integrated Acceleration System\, which guides educators and families through the decision-making process about grade-skipping\, early entrance to kindergarten\, subject acceleration\, and early entrance to college. \nSessions are $35 for non-members and $20 for PAGE members \nClick the links below to learn more and register for individual sessions.  Make sure to visit your members-only page to access the $15 discount code! \nVisit T2T to see other upcoming sessions (registration is open for all events) \nRegister Now \n
URL:https://www.giftedpage.org/event/acceleration-with-the-experts/
LOCATION:Virtual
END:VEVENT
END:VCALENDAR