BEGIN:VCALENDAR
VERSION:2.0
PRODID:-//Pennsylvania Association for Gifted Education (PAGE) - ECPv4.9.10//NONSGML v1.0//EN
CALSCALE:GREGORIAN
METHOD:PUBLISH
X-WR-CALNAME:Pennsylvania Association for Gifted Education (PAGE)
X-ORIGINAL-URL:https://www.giftedpage.org
X-WR-CALDESC:Events for Pennsylvania Association for Gifted Education (PAGE)
BEGIN:VTIMEZONE
TZID:America/New_York
BEGIN:DAYLIGHT
TZOFFSETFROM:-0500
TZOFFSETTO:-0400
TZNAME:EDT
DTSTART:20230312T070000
END:DAYLIGHT
BEGIN:STANDARD
TZOFFSETFROM:-0400
TZOFFSETTO:-0500
TZNAME:EST
DTSTART:20231105T060000
END:STANDARD
END:VTIMEZONE
BEGIN:VEVENT
DTSTART;VALUE=DATE:20230721
DTEND;VALUE=DATE:20230722
DTSTAMP:20260421T055856
CREATED:20230217T150134Z
LAST-MODIFIED:20230217T150134Z
UID:8275-1689897600-1689983999@www.giftedpage.org
SUMMARY:2023 SENG Annual Conference - Authentic Voices:  Community & Belonging
DESCRIPTION:  \n \nJOIN SENG for their 2023 Annual Conference at Villanova University on July 21-23. They will be featuring Keynote Speakers Dr. Scott Barry Kaufman and Dr. Richard Cash. \n  \nPAGE Members can receive a $50 discount on registration.  Visit the members-only page for the discount code. \n
URL:https://www.giftedpage.org/event/2023-seng-annual-conference-authentic-voices-community-belonging/
END:VEVENT
END:VCALENDAR