BEGIN:VCALENDAR
VERSION:2.0
PRODID:-//Pennsylvania Association for Gifted Education (PAGE) - ECPv4.9.10//NONSGML v1.0//EN
CALSCALE:GREGORIAN
METHOD:PUBLISH
X-WR-CALNAME:Pennsylvania Association for Gifted Education (PAGE)
X-ORIGINAL-URL:https://www.giftedpage.org
X-WR-CALDESC:Events for Pennsylvania Association for Gifted Education (PAGE)
BEGIN:VTIMEZONE
TZID:America/New_York
BEGIN:DAYLIGHT
TZOFFSETFROM:-0500
TZOFFSETTO:-0400
TZNAME:EDT
DTSTART:20230312T070000
END:DAYLIGHT
BEGIN:STANDARD
TZOFFSETFROM:-0400
TZOFFSETTO:-0500
TZNAME:EST
DTSTART:20231105T060000
END:STANDARD
END:VTIMEZONE
BEGIN:VEVENT
DTSTART;TZID=America/New_York:20230403T190000
DTEND;TZID=America/New_York:20230403T203000
DTSTAMP:20260421T002422
CREATED:20230327T135821Z
LAST-MODIFIED:20230327T135821Z
UID:8309-1680548400-1680553800@www.giftedpage.org
SUMMARY:Anxiety and Perfectionism in Gifted Kids
DESCRIPTION:Join BADGE for an online presentation and discussion on mental health related to gifted children\, led by Gail Post\, Ph.D. After registering at https://tinyurl.com/badgezoom\, you will be sent a link for the meeting. \n
URL:https://www.giftedpage.org/event/anxiety-and-perfectionism-in-gifted-kids/
LOCATION:online
ATTACH;FMTTYPE=image/jpeg:https://www.giftedpage.org/wp-content/uploads/2023/03/BADGE-logo-2c-BlueGrey-PMS-541_5-1-17.jpg
ORGANIZER;CN="Bensalem%20Association%20Dedicated%20to%20Gifted%20Education":MAILTO:Bensalemgifted@gmail.com
END:VEVENT
END:VCALENDAR