BEGIN:VCALENDAR
VERSION:2.0
PRODID:-//Pennsylvania Association for Gifted Education (PAGE) - ECPv4.9.10//NONSGML v1.0//EN
CALSCALE:GREGORIAN
METHOD:PUBLISH
X-WR-CALNAME:Pennsylvania Association for Gifted Education (PAGE)
X-ORIGINAL-URL:https://www.giftedpage.org
X-WR-CALDESC:Events for Pennsylvania Association for Gifted Education (PAGE)
BEGIN:VTIMEZONE
TZID:America/New_York
BEGIN:DAYLIGHT
TZOFFSETFROM:-0500
TZOFFSETTO:-0400
TZNAME:EDT
DTSTART:20220313T070000
END:DAYLIGHT
BEGIN:STANDARD
TZOFFSETFROM:-0400
TZOFFSETTO:-0500
TZNAME:EST
DTSTART:20221106T060000
END:STANDARD
END:VTIMEZONE
BEGIN:VEVENT
DTSTART;VALUE=DATE:20221017
DTEND;VALUE=DATE:20221019
DTSTAMP:20260420T141142
CREATED:20220802T183141Z
LAST-MODIFIED:20220802T183141Z
UID:7923-1665964800-1666137599@www.giftedpage.org
SUMMARY:Forward Thinking: The Future of Gifted Education
DESCRIPTION:2022 PAGE Annual Conference \nForward Thinking: The Future of Gifted Education\nREGISTRATION IS OPEN UNTIL FRIDAY\, SEPTEMBER 30TH\, 2022 \nOur conference is open to all teachers\, administrators\, and parents.  \nAct 48 credits available for teachers needing continuing education credits!  \nAccommodations: \n\nWe have a room block at the Kalahari Poconos Resort\nSunday\, Monday & Tuesday room rate is $143/night\nShould you wish to stay Friday and/or Saturday night there will be a 3 night minimum on Friday night and a 2 night minimum on Saturday night. The rate for these nights will be a discounted rate of $275 + tax per room\, per night. \nComplimentary Self Parking\nResort Fees are Waived\nBook Online: Book Group Rate\n\nFood:  \n\nBreakfast included with your hotel stay\nLunch will be provided on Monday & Tuesday\n\nPresenters & Sessions: Coming soon \nPayment Options:  \n\nPaypal upon check-out. \nInvoice your district. (This invoice is sent via email)\nPurchase Order. Payment must be received before the conference. \n\n FAQs \nREGISTRATION IS OPEN UNTIL SEPTEMBER 30\, 2022 \n What’s the refund policy? \nCancellation Fee $25. No refunds after SEPTEMBER 30\, 2022 \n How can I contact the organizer with any questions? \nAll questions about the event can be directed to kshoupe@giftedpage.org  \n
URL:https://www.giftedpage.org/event/forward-thinking-the-future-of-gifted-education/
LOCATION:Kalahari Poconos Resort
END:VEVENT
END:VCALENDAR