BEGIN:VCALENDAR
VERSION:2.0
PRODID:-//Pennsylvania Association for Gifted Education (PAGE) - ECPv4.9.10//NONSGML v1.0//EN
CALSCALE:GREGORIAN
METHOD:PUBLISH
X-WR-CALNAME:Pennsylvania Association for Gifted Education (PAGE)
X-ORIGINAL-URL:https://www.giftedpage.org
X-WR-CALDESC:Events for Pennsylvania Association for Gifted Education (PAGE)
BEGIN:VTIMEZONE
TZID:America/New_York
BEGIN:DAYLIGHT
TZOFFSETFROM:-0500
TZOFFSETTO:-0400
TZNAME:EDT
DTSTART:20210314T070000
END:DAYLIGHT
BEGIN:STANDARD
TZOFFSETFROM:-0400
TZOFFSETTO:-0500
TZNAME:EST
DTSTART:20211107T060000
END:STANDARD
END:VTIMEZONE
BEGIN:VEVENT
DTSTART;TZID=America/New_York:20210207T140000
DTEND;TZID=America/New_York:20210207T160000
DTSTAMP:20260421T114542
CREATED:20210128T175838Z
LAST-MODIFIED:20210128T175838Z
UID:6983-1612706400-1612713600@www.giftedpage.org
SUMMARY:Conference Extension Webinars-Equity Month
DESCRIPTION:This month’s webinar and incredible speakers are brought to you\, in part\, by SENG\, Supporting Emotional Needs of the Gifted. Visit https://www.sengifted.org/ to learn more! \n2020 Conference Attendees–don’t forget to check your email for your discount code! Hope to see you there! \n2:00 \nBridging the Excellence Gap-Monica Nestor \nLearn useful strategies to recognize and educate gifted learners from diverse backgrounds and how to uncover their talent potential in the classroom. \n3:00 \nPresentation – Dr. Kristina Collins \nSession title and description will be released as soon as possible \n
URL:https://www.giftedpage.org/event/conference-extension-webinars-equity-month/
LOCATION:Virtual
END:VEVENT
END:VCALENDAR