BEGIN:VCALENDAR
VERSION:2.0
PRODID:-//Pennsylvania Association for Gifted Education (PAGE) - ECPv4.9.10//NONSGML v1.0//EN
CALSCALE:GREGORIAN
METHOD:PUBLISH
X-WR-CALNAME:Pennsylvania Association for Gifted Education (PAGE)
X-ORIGINAL-URL:https://www.giftedpage.org
X-WR-CALDESC:Events for Pennsylvania Association for Gifted Education (PAGE)
BEGIN:VTIMEZONE
TZID:America/New_York
BEGIN:DAYLIGHT
TZOFFSETFROM:-0500
TZOFFSETTO:-0400
TZNAME:EDT
DTSTART:20240310T070000
END:DAYLIGHT
BEGIN:STANDARD
TZOFFSETFROM:-0400
TZOFFSETTO:-0500
TZNAME:EST
DTSTART:20241103T060000
END:STANDARD
END:VTIMEZONE
BEGIN:VEVENT
DTSTART;TZID=America/New_York:20240910T190000
DTEND;TZID=America/New_York:20240910T203000
DTSTAMP:20260424T062817
CREATED:20240827T141506Z
LAST-MODIFIED:20240827T141506Z
UID:8876-1725994800-1726000200@www.giftedpage.org
SUMMARY:New to Gifted or Need a Refresher?
DESCRIPTION: \n  \n  \n  \n  \n  \nAre you new to gifted education? Do you need a refresher? We will discuss who are the gifted\, how to identify a gifted child in your classroom\, the differences between a bright child and a gifted child\, what a GIEP is\, what are the differences between the NOREP and/or the NORA\, how to use the Renzuli scale to recognize and support the gifted learner. \nEach 90-minute monthly session will be held on the 2nd Tuesday at 7:00 PM LIVE and will be available asynchronously to watch according to your schedule.  Visit Teacher2Teacher for more information. \nAffordable Act 48 credits! $20/session for members\, $35 for non-members.  Make sure to visit your members-only page to access the $15 discount code!  \nRegister Now \n
URL:https://www.giftedpage.org/event/new-to-gifted-or-need-a-refresher/
LOCATION:Virtual
END:VEVENT
END:VCALENDAR