BEGIN:VCALENDAR
VERSION:2.0
PRODID:-//Pennsylvania Association for Gifted Education (PAGE) - ECPv4.9.10//NONSGML v1.0//EN
CALSCALE:GREGORIAN
METHOD:PUBLISH
X-WR-CALNAME:Pennsylvania Association for Gifted Education (PAGE)
X-ORIGINAL-URL:https://www.giftedpage.org
X-WR-CALDESC:Events for Pennsylvania Association for Gifted Education (PAGE)
BEGIN:VTIMEZONE
TZID:America/New_York
BEGIN:DAYLIGHT
TZOFFSETFROM:-0500
TZOFFSETTO:-0400
TZNAME:EDT
DTSTART:20240310T070000
END:DAYLIGHT
BEGIN:STANDARD
TZOFFSETFROM:-0400
TZOFFSETTO:-0500
TZNAME:EST
DTSTART:20241103T060000
END:STANDARD
END:VTIMEZONE
BEGIN:VEVENT
DTSTART;TZID=America/New_York:20240228T190000
DTEND;TZID=America/New_York:20240228T203000
DTSTAMP:20260421T123413
CREATED:20240215T151528Z
LAST-MODIFIED:20240215T151528Z
UID:8702-1709146800-1709152200@www.giftedpage.org
SUMMARY:Gifted Minds Unlocked: Your Questions\, Our Answers
DESCRIPTION: \n  \n  \n  \n  \n  \nOur Parent-2-Parent sessions continue this month with a special feature.  You! \nJoin PAGE’s Community & Affiliate Director\, Deanie Gauntlett and members of the PAGE board to unlock the potential of your gifted child with “Gifted Minds Unlocked: Your Questions\, Our Answers.”  This engaging and informative session is designed to address the unique challenges and opportunities that come with nurturing gifted minds. \nDo you have burning questions about your gifted child’s education\, social development\, or emotional well-being? Submit your queries in advance\, and let our panel of PAGE board experts provide insightful answers tailored to your concerns. \nA link to submit your questions will be provided in the confirmation email. \nPreregistration is required:  https://www.tickettailor.com/events/pennsylvaniaassociationforgiftededucation/1160162 \n
URL:https://www.giftedpage.org/event/gifted-minds-unlocked-your-questions-our-answers/
LOCATION:Virtual
END:VEVENT
END:VCALENDAR