BEGIN:VCALENDAR
VERSION:2.0
PRODID:-//Pennsylvania Association for Gifted Education (PAGE) - ECPv4.9.10//NONSGML v1.0//EN
CALSCALE:GREGORIAN
METHOD:PUBLISH
X-WR-CALNAME:Pennsylvania Association for Gifted Education (PAGE)
X-ORIGINAL-URL:https://www.giftedpage.org
X-WR-CALDESC:Events for Pennsylvania Association for Gifted Education (PAGE)
BEGIN:VTIMEZONE
TZID:America/New_York
BEGIN:DAYLIGHT
TZOFFSETFROM:-0500
TZOFFSETTO:-0400
TZNAME:EDT
DTSTART:20230312T070000
END:DAYLIGHT
BEGIN:STANDARD
TZOFFSETFROM:-0400
TZOFFSETTO:-0500
TZNAME:EST
DTSTART:20231105T060000
END:STANDARD
END:VTIMEZONE
BEGIN:VEVENT
DTSTART;TZID=America/New_York:20231116T190000
DTEND;TZID=America/New_York:20231116T203000
DTSTAMP:20260421T164407
CREATED:20231108T195513Z
LAST-MODIFIED:20231108T195513Z
UID:8615-1700161200-1700166600@www.giftedpage.org
SUMMARY:Gifted in the Regular Education Classroom (November P2P)
DESCRIPTION:Gifted in the Regular Education Classroom: Understanding the criticality of student differentiation and why it is crucial for our gifted learners…and their teachers! \nOur gifted students are not only gifted when they work with the gifted teacher! Their depth and breadth of thinking\, and incredible skill or potential allow them to consistently approach challenging tasks\, or projects while exhibiting aptitude above their same-age peers. This session will share the impact of classroom differentiation strategies and explore a framework for how to best meet their needs through classroom differentiation. Being gifted ‘all the time’ does not equate to perfection in all things but in a gifted student’s approach to learning. \nPlease join us on November 16th\, 2023\, at 7 p.m. for a Parent-to-Parent (P2P) online group discussion hosted by the PA Association of Gifted Education. Dr. Elizabeth Shucker will join Deanie Gauntlett and other PAGE experts \nPlease note that this event will not be recorded for distribution. \n \n
URL:https://www.giftedpage.org/event/gifted-in-the-regular-education-classroom-november-p2p/
LOCATION:Virtual
END:VEVENT
END:VCALENDAR