BEGIN:VCALENDAR
VERSION:2.0
PRODID:-//Pennsylvania Association for Gifted Education (PAGE) - ECPv4.9.10//NONSGML v1.0//EN
CALSCALE:GREGORIAN
METHOD:PUBLISH
X-WR-CALNAME:Pennsylvania Association for Gifted Education (PAGE)
X-ORIGINAL-URL:https://www.giftedpage.org
X-WR-CALDESC:Events for Pennsylvania Association for Gifted Education (PAGE)
BEGIN:VTIMEZONE
TZID:America/New_York
BEGIN:DAYLIGHT
TZOFFSETFROM:-0500
TZOFFSETTO:-0400
TZNAME:EDT
DTSTART:20230312T070000
END:DAYLIGHT
BEGIN:STANDARD
TZOFFSETFROM:-0400
TZOFFSETTO:-0500
TZNAME:EST
DTSTART:20231105T060000
END:STANDARD
END:VTIMEZONE
BEGIN:VEVENT
DTSTART;TZID=America/New_York:20231019T180000
DTEND;TZID=America/New_York:20231019T190000
DTSTAMP:20260421T195819
CREATED:20230929T170550Z
LAST-MODIFIED:20230929T170550Z
UID:8492-1697738400-1697742000@www.giftedpage.org
SUMMARY:Gifted 101 For Parents with AIU & PAGE
DESCRIPTION:Join Amy McShane\, Western Pennsylvania Gifted Liasion and Dr. Ciminy St. Clair\, Pennsylvania Association for Gifted Education President\, as they discuss Gifted 101 for Parents. \nThe session will focus specifically on gifted education topics relevant and necessary within the state of Pennsylvania from the parents’ perspective. \nThis is a live\, in-person event held at the Allegheny Intermediate Unit.  475 E Waterfront Dr\, Homestead\, PA 15120 \n \n
URL:https://www.giftedpage.org/event/gifted-101-for-parents-with-aiu-page/
LOCATION:Allegheny Intermediate Unit\, 475 E Waterfront Drive\, Homestead\, PA\, 15120\, United States
END:VEVENT
END:VCALENDAR