BEGIN:VCALENDAR
VERSION:2.0
PRODID:-//Pennsylvania Association for Gifted Education (PAGE) - ECPv4.9.10//NONSGML v1.0//EN
CALSCALE:GREGORIAN
METHOD:PUBLISH
X-WR-CALNAME:Pennsylvania Association for Gifted Education (PAGE)
X-ORIGINAL-URL:https://www.giftedpage.org
X-WR-CALDESC:Events for Pennsylvania Association for Gifted Education (PAGE)
BEGIN:VTIMEZONE
TZID:America/New_York
BEGIN:DAYLIGHT
TZOFFSETFROM:-0500
TZOFFSETTO:-0400
TZNAME:EDT
DTSTART:20240310T070000
END:DAYLIGHT
BEGIN:STANDARD
TZOFFSETFROM:-0400
TZOFFSETTO:-0500
TZNAME:EST
DTSTART:20241103T060000
END:STANDARD
END:VTIMEZONE
BEGIN:VEVENT
DTSTART;TZID=America/New_York:20240130T190000
DTEND;TZID=America/New_York:20240130T203000
DTSTAMP:20260421T135446
CREATED:20240109T141152Z
LAST-MODIFIED:20240109T141152Z
UID:8667-1706641200-1706646600@www.giftedpage.org
SUMMARY:Acceleration: What Do Parents Need to Know?-January P2P
DESCRIPTION:PAGE is excited to welcome Dr. Ann Lupkowski-Shoplik to kick off our 2024 parent-to-parent sessions with PAGE’s Deanie Gauntlett. \nAcceleration is the best-researched option for academically talented students\, yet educators and families may be hesitant to use it. Forms of acceleration include grade-skipping\, subject acceleration\, AP courses\, honors courses\, dual enrollment\, and early entrance to college. Research indicates that accelerated students perform well academically in the short- and long-term; additionally\, they do well socially. Tools are available to help inform decisions about acceleration\, including the Iowa Acceleration Scale\, Integrated Acceleration System\, and above-level testing. Some states and school districts have well-developed acceleration policies that guide decision-making. Learn about the many resources available to support families seeking additional challenges for their students. \nAnn Lupkowski-Shoplik\, Ph.D. is Administrator\, Acceleration Institute and Research at the University of Iowa Belin-Blank Center. Previously\, she founded and directed the Carnegie Mellon Institute for Talented Elementary Students (C-MITES) at Carnegie Mellon University. She co-authored Developing Math Talent (2nd ed.)\, Developing Academic Acceleration Policies\, and the Iowa Acceleration Scale\, and co-edited A Nation Empowered: Evidence Trumps the Excuses Holding Back America’s Brightest Students. She is also a co-developer of the online Integrated Acceleration System\, which guides educators and families through the decision-making process about grade-skipping\, early entrance to kindergarten\, subject acceleration\, and early entrance to college. \n
URL:https://www.giftedpage.org/event/acceleration-what-do-parents-need-to-know-january-p2p/
LOCATION:Virtual
END:VEVENT
END:VCALENDAR