BEGIN:VCALENDAR
VERSION:2.0
PRODID:-//Pennsylvania Association for Gifted Education (PAGE) - ECPv4.9.10//NONSGML v1.0//EN
CALSCALE:GREGORIAN
METHOD:PUBLISH
X-WR-CALNAME:Pennsylvania Association for Gifted Education (PAGE)
X-ORIGINAL-URL:https://www.giftedpage.org
X-WR-CALDESC:Events for Pennsylvania Association for Gifted Education (PAGE)
BEGIN:VTIMEZONE
TZID:America/New_York
BEGIN:DAYLIGHT
TZOFFSETFROM:-0500
TZOFFSETTO:-0400
TZNAME:EDT
DTSTART:20230312T070000
END:DAYLIGHT
BEGIN:STANDARD
TZOFFSETFROM:-0400
TZOFFSETTO:-0500
TZNAME:EST
DTSTART:20231105T060000
END:STANDARD
END:VTIMEZONE
BEGIN:VEVENT
DTSTART;TZID=America/New_York:20231102T080000
DTEND;TZID=America/New_York:20231103T170000
DTSTAMP:20260421T182030
CREATED:20230929T171235Z
LAST-MODIFIED:20230929T171235Z
UID:8496-1698912000-1699030800@www.giftedpage.org
SUMMARY:2023 Annual Conference:  Step Up\, Speak Out\, & Lead
DESCRIPTION:\n  \n  \n  \n  \n  \nStep Up\, Speak Out\, & Lead\nStep Up\, Speak Out\, & Lead to Promote Mental Health\, to Amplify Minority Voices\, to Advocate for Individual Needs\, to Ignite Interests in Gifted Learners\, and to Explore the Needs of Gifted Students \nREGISTRATION IS OPEN UNTIL WEDNESDAY\, OCTOBER 18TH\, 2023. \nOur conference is open to all teachers\, administrators\, parents\, as well as anyone involved in any aspect of gifted education. \nAct 48 credits are available for teachers needing continuing education credits!  \nAccommodations: \n\nWe have a room block at the Best Western Premier Central Hotel & Conference Center\nThe rate is $129.95/night and includes up to 2 breakfasts per room.\nRoom block expires 10/3/2023 or when the hotel sells out\nComplimentary Self Parking\nBook Here\n\nFood:  \n\nLunch will be provided on Thursday & Friday\nNetworking Mingle on Thursday evening\n\nPresenters & Sessions: \n\nThursday Schedule\nFriday Schedule\n\nPayment Options:  \n\nPaypal upon check-out. \nInvoice your district. (This invoice is sent via email)\nPurchase Order. Payment must be received before the conference. \n\n FAQs \n What’s the refund policy? \nCancellation Fee $25. No refunds after October 18th\, 2023 \n How can I contact the organizer with any questions? \nAll questions about the event can be directed to kshoupe@giftedpage.org  \n
URL:https://www.giftedpage.org/event/2023-annual-conference-step-up-speak-out-lead/
LOCATION:Best Western Premier the Central Hotel\, 800 E Park Dr.\, Harrisburg\, PA\, 17111\, United States
END:VEVENT
END:VCALENDAR